BEGIN:VCALENDAR
VERSION:2.0
PRODID:-//Institut Rhein-Eifel GmbH - ECPv6.15.20//NONSGML v1.0//EN
CALSCALE:GREGORIAN
METHOD:PUBLISH
X-WR-CALNAME:Institut Rhein-Eifel GmbH
X-ORIGINAL-URL:https://rhein-eifel-institut.de
X-WR-CALDESC:Veranstaltungen für Institut Rhein-Eifel GmbH
REFRESH-INTERVAL;VALUE=DURATION:PT1H
X-Robots-Tag:noindex
X-PUBLISHED-TTL:PT1H
BEGIN:VTIMEZONE
TZID:Europe/Berlin
BEGIN:DAYLIGHT
TZOFFSETFROM:+0100
TZOFFSETTO:+0200
TZNAME:CEST
DTSTART:20250330T010000
END:DAYLIGHT
BEGIN:STANDARD
TZOFFSETFROM:+0200
TZOFFSETTO:+0100
TZNAME:CET
DTSTART:20251026T010000
END:STANDARD
BEGIN:DAYLIGHT
TZOFFSETFROM:+0100
TZOFFSETTO:+0200
TZNAME:CEST
DTSTART:20260329T010000
END:DAYLIGHT
BEGIN:STANDARD
TZOFFSETFROM:+0200
TZOFFSETTO:+0100
TZNAME:CET
DTSTART:20261025T010000
END:STANDARD
BEGIN:DAYLIGHT
TZOFFSETFROM:+0100
TZOFFSETTO:+0200
TZNAME:CEST
DTSTART:20270328T010000
END:DAYLIGHT
BEGIN:STANDARD
TZOFFSETFROM:+0200
TZOFFSETTO:+0100
TZNAME:CET
DTSTART:20271031T010000
END:STANDARD
END:VTIMEZONE
BEGIN:VEVENT
DTSTART;TZID=Europe/Berlin:20260424T160000
DTEND;TZID=Europe/Berlin:20260424T203000
DTSTAMP:20260422T072752
CREATED:20250807T132337Z
LAST-MODIFIED:20250825T092312Z
UID:10000706-1777046400-1777062600@rhein-eifel-institut.de
SUMMARY:Praktische Umsetzung der GruppenPT II  (5 UE)
DESCRIPTION:  \nTermine:\n24.04.2026 16:00 – 20:30 Uhr (5 UE)\n25.04.2026 10:00 – 17:00 Uhr (7 UE)\n \n\nThemen: \n\nDie Persönlichkeit des Psychotherapeuten (die Gruppenleitung\, die therapeutische Haltung\, der Co-Therapeut\, Strategien und Techniken\, Fragen der alltäglichen Praxis)\nDie Persönlichkeit des Einzelne in der Gruppe (die Haltung des Patienten\, seine Position\, Motivation\, Compliance\, Psychische Störungen)\nDer psychotherapeutische Prozess in der Gruppe II (Destruktive Prozesse\, z.B. Sündenbock\,Therapieabbruch\, Suizidalität) und Gruppenereignisse (z.B. Kontakte außerhalb der Gruppe\, Paaring\, Abbrüche)\nIndikation und Antragstellung zur Gruppenpsychotherapie\nFragen der alltäglichen Praxis (Selbsterfahrung\, Supervision\, Abschluss\, Prozessreflexion\, etc.)
URL:https://rhein-eifel-institut.de/veranstaltung/praxis-der-gruppenpsychotherapie-12-ue-3/
END:VEVENT
BEGIN:VEVENT
DTSTART;TZID=Europe/Berlin:20260425T100000
DTEND;TZID=Europe/Berlin:20260425T170000
DTSTAMP:20260422T072752
CREATED:20250807T132406Z
LAST-MODIFIED:20250820T083917Z
UID:10000704-1777111200-1777136400@rhein-eifel-institut.de
SUMMARY:Praktische Umsetzung der GruppenPT II (7 UE)
DESCRIPTION:  \nTermine:\n24.04.2026 16:00 – 20:30 Uhr (5 UE)\n25.04.2026 10:00 – 17:00 Uhr (7 UE)\n \n\nThemen: \n\nDie Persönlichkeit des Psychotherapeuten (die Gruppenleitung\, die therapeutische Haltung\, der Co-Therapeut\, Strategien und Techniken\, Fragen der alltäglichen Praxis)\nDie Persönlichkeit des Einzelne in der Gruppe (die Haltung des Patienten\, seine Position\, Motivation\, Compliance\, Psychische Störungen)\nDer psychotherapeutische Prozess in der Gruppe II (Destruktive Prozesse\, z.B. Sündenbock\,Therapieabbruch\, Suizidalität) und Gruppenereignisse (z.B. Kontakte außerhalb der Gruppe\, Paaring\, Abbrüche)\nIndikation und Antragstellung zur Gruppenpsychotherapie\nFragen der alltäglichen Praxis (Selbsterfahrung\, Supervision\, Abschluss\, Prozessreflexion\, etc.)
URL:https://rhein-eifel-institut.de/veranstaltung/praxis-der-gruppenpsychotherapie-12-ue-4/
END:VEVENT
END:VCALENDAR